BEGIN:VCALENDAR
VERSION:2.0
PRODID:-//Kirkland Firefighters - ECPv6.15.20//NONSGML v1.0//EN
CALSCALE:GREGORIAN
METHOD:PUBLISH
X-WR-CALNAME:Kirkland Firefighters
X-ORIGINAL-URL:https://www.iaff2545.org
X-WR-CALDESC:Events for Kirkland Firefighters
REFRESH-INTERVAL;VALUE=DURATION:PT1H
X-Robots-Tag:noindex
X-PUBLISHED-TTL:PT1H
BEGIN:VTIMEZONE
TZID:America/Los_Angeles
BEGIN:DAYLIGHT
TZOFFSETFROM:-0800
TZOFFSETTO:-0700
TZNAME:PDT
DTSTART:20250309T100000
END:DAYLIGHT
BEGIN:STANDARD
TZOFFSETFROM:-0700
TZOFFSETTO:-0800
TZNAME:PST
DTSTART:20251102T090000
END:STANDARD
BEGIN:DAYLIGHT
TZOFFSETFROM:-0800
TZOFFSETTO:-0700
TZNAME:PDT
DTSTART:20260308T100000
END:DAYLIGHT
BEGIN:STANDARD
TZOFFSETFROM:-0700
TZOFFSETTO:-0800
TZNAME:PST
DTSTART:20261101T090000
END:STANDARD
BEGIN:DAYLIGHT
TZOFFSETFROM:-0800
TZOFFSETTO:-0700
TZNAME:PDT
DTSTART:20270314T100000
END:DAYLIGHT
BEGIN:STANDARD
TZOFFSETFROM:-0700
TZOFFSETTO:-0800
TZNAME:PST
DTSTART:20271107T090000
END:STANDARD
END:VTIMEZONE
BEGIN:VEVENT
DTSTART;VALUE=DATE:20260420
DTEND;VALUE=DATE:20260422
DTSTAMP:20260421T011556
CREATED:20260313T233815Z
LAST-MODIFIED:20260313T233815Z
UID:10000008-1776643200-1776815999@www.iaff2545.org
SUMMARY:Fire Chief Interviews - City Hall (McCauley\, McVay representing L2545)
DESCRIPTION:
URL:https://www.iaff2545.org/event/fire-chief-interviews-city-hall-mccauley-mcvay-representing-l2545/
ATTACH;FMTTYPE=image/png:https://www.iaff2545.org/wp-content/uploads/2023/07/icon.png
END:VEVENT
BEGIN:VEVENT
DTSTART;VALUE=DATE:20260421
DTEND;VALUE=DATE:20260424
DTSTAMP:20260421T011556
CREATED:20260313T234134Z
LAST-MODIFIED:20260313T234134Z
UID:10000009-1776729600-1776988799@www.iaff2545.org
SUMMARY:WSCFF Ed Seminar Wenatchee - (Attending1.... 2...)
DESCRIPTION:
URL:https://www.iaff2545.org/event/wscff-ed-seminar-wenatchee-attending1-2/
ATTACH;FMTTYPE=image/png:https://www.iaff2545.org/wp-content/uploads/2023/07/icon.png
END:VEVENT
END:VCALENDAR